BEGIN:VCALENDAR
VERSION:2.0
PRODID:-//GrillaTech - ECPv6.15.20//NONSGML v1.0//EN
CALSCALE:GREGORIAN
METHOD:PUBLISH
X-ORIGINAL-URL:https://grillatech.com
X-WR-CALDESC:Events for GrillaTech
REFRESH-INTERVAL;VALUE=DURATION:PT1H
X-Robots-Tag:noindex
X-PUBLISHED-TTL:PT1H
BEGIN:VTIMEZONE
TZID:Europe/Paris
BEGIN:DAYLIGHT
TZOFFSETFROM:+0100
TZOFFSETTO:+0200
TZNAME:CEST
DTSTART:20220327T010000
END:DAYLIGHT
BEGIN:STANDARD
TZOFFSETFROM:+0200
TZOFFSETTO:+0100
TZNAME:CET
DTSTART:20221030T010000
END:STANDARD
BEGIN:DAYLIGHT
TZOFFSETFROM:+0100
TZOFFSETTO:+0200
TZNAME:CEST
DTSTART:20230326T010000
END:DAYLIGHT
BEGIN:STANDARD
TZOFFSETFROM:+0200
TZOFFSETTO:+0100
TZNAME:CET
DTSTART:20231029T010000
END:STANDARD
BEGIN:DAYLIGHT
TZOFFSETFROM:+0100
TZOFFSETTO:+0200
TZNAME:CEST
DTSTART:20240331T010000
END:DAYLIGHT
BEGIN:STANDARD
TZOFFSETFROM:+0200
TZOFFSETTO:+0100
TZNAME:CET
DTSTART:20241027T010000
END:STANDARD
END:VTIMEZONE
BEGIN:VEVENT
DTSTART;TZID=Europe/Paris:20231024T080000
DTEND;TZID=Europe/Paris:20231025T170000
DTSTAMP:20260424T173253
CREATED:20231017T150903Z
LAST-MODIFIED:20231017T150903Z
UID:7031-1698134400-1698253200@grillatech.com
SUMMARY:Test training event
DESCRIPTION:Description in here for what we want
URL:https://grillatech.com/event/test-training-event/
LOCATION:Remote event
CATEGORIES:Certified training
ATTACH;FMTTYPE=image/png:https://grillatech.com/wp-content/uploads/2023/10/efficient-IP.png
END:VEVENT
END:VCALENDAR